BEGIN:VCALENDAR
VERSION:2.0
PRODID:-//AQDR Laval-Laurentides - ECPv6.15.20//NONSGML v1.0//EN
CALSCALE:GREGORIAN
METHOD:PUBLISH
X-WR-CALNAME:AQDR Laval-Laurentides
X-ORIGINAL-URL:https://aqdrlaval.org
X-WR-CALDESC:Évènements pour AQDR Laval-Laurentides
REFRESH-INTERVAL;VALUE=DURATION:PT1H
X-Robots-Tag:noindex
X-PUBLISHED-TTL:PT1H
BEGIN:VTIMEZONE
TZID:America/Toronto
BEGIN:DAYLIGHT
TZOFFSETFROM:-0500
TZOFFSETTO:-0400
TZNAME:EDT
DTSTART:20230312T070000
END:DAYLIGHT
BEGIN:STANDARD
TZOFFSETFROM:-0400
TZOFFSETTO:-0500
TZNAME:EST
DTSTART:20231105T060000
END:STANDARD
BEGIN:DAYLIGHT
TZOFFSETFROM:-0500
TZOFFSETTO:-0400
TZNAME:EDT
DTSTART:20240310T070000
END:DAYLIGHT
BEGIN:STANDARD
TZOFFSETFROM:-0400
TZOFFSETTO:-0500
TZNAME:EST
DTSTART:20241103T060000
END:STANDARD
BEGIN:DAYLIGHT
TZOFFSETFROM:-0500
TZOFFSETTO:-0400
TZNAME:EDT
DTSTART:20250309T070000
END:DAYLIGHT
BEGIN:STANDARD
TZOFFSETFROM:-0400
TZOFFSETTO:-0500
TZNAME:EST
DTSTART:20251102T060000
END:STANDARD
END:VTIMEZONE
BEGIN:VEVENT
DTSTART;TZID=America/Toronto:20241126T133000
DTEND;TZID=America/Toronto:20241126T153000
DTSTAMP:20260420T045419
CREATED:20240821T144630Z
LAST-MODIFIED:20240821T144630Z
UID:7721-1732627800-1732635000@aqdrlaval.org
SUMMARY:VOS DROITS EN RPA ET CHSLD
DESCRIPTION:Tous n’ont pas les mêmes besoins. Mais tous méritent le respect. En RPA ou en hébergement\, les résidents âgés possèdent des droits que les directions et les personnes qui fournissent des services doivent respecter. \nConférencière : Me Hélène Guay
URL:https://aqdrlaval.org/calendrier/vos-droits-en-rpa-et-chsld/
LOCATION:Carrefour Axion 50+ Salle 221\, 435\, boulevard Curé-Labelle\, Laval - Chomedey\, Québec\, H7V 2S8\, Canada
CATEGORIES:Conférences
END:VEVENT
BEGIN:VEVENT
DTSTART;TZID=America/Toronto:20241119T140000
DTEND;TZID=America/Toronto:20241119T153000
DTSTAMP:20260420T045419
CREATED:20240826T141927Z
LAST-MODIFIED:20241011T150032Z
UID:7919-1732024800-1732030200@aqdrlaval.org
SUMMARY:PIÈCE DE THÉÂTRE : LA VIE DES AUTRES
DESCRIPTION:Abordons avec humour la solidarité et la bienveillance entre voisins.\nPar le Théâtre Parminou \n  \nRéservation : biblio.vsj.ca\nInformation : 579-368-1093 ou info@trara.org
URL:https://aqdrlaval.org/calendrier/piece-de-theatre-la-vie-des-autres/
LOCATION:Maison de la culture Claude-Henri-Grignon\, 101\, place Curé-Labelle\, Saint-Jérôme\, Québec\, Canada
CATEGORIES:Conférences
END:VEVENT
BEGIN:VEVENT
DTSTART;TZID=America/Toronto:20241029T133000
DTEND;TZID=America/Toronto:20241029T153000
DTSTAMP:20260420T045419
CREATED:20240821T144535Z
LAST-MODIFIED:20241021T133218Z
UID:7719-1730208600-1730215800@aqdrlaval.org
SUMMARY:CAUSERIE VIEILLIR\, QUELLE BELLE AFFAIRE !
DESCRIPTION:L’expression et la mise en commun de nos valeurs et préoccupations concernant le vieillissement peuvent contribuer à améliorer notre qualité de vie\, quel que soit notre âge. Vieillir est une expérience vécue par chacun de nous. Ce serait même\, à ce qu’on dit\, une des seules justices sur cette terre! Qu’en pensez-vous? \nC’est pourquoi nous voulons répondre ensemble à ces questions: Vieillir\, ça se passe comment pour vous? Tout le monde veut bien vieillir ? Est-ce que bien vieillir\, c’est rester jeune? Dans notre tête\, dans notre cœur\, dans notre corps\, dans notre âme\, est-ce qu’on vieillit bien? \nLes animateurs du programme Antidote VIT de l’AQDR Laval-Laurentides vous invitent à une causerie afin de partager vos idées et votre expérience. Café inclus !
URL:https://aqdrlaval.org/calendrier/causerie-vieillir-quelle-belle-affaire/
LOCATION:Carrefour Axion 50+ Salle 221\, 435\, boulevard Curé-Labelle\, Laval - Chomedey\, Québec\, H7V 2S8\, Canada
CATEGORIES:Conférences
END:VEVENT
BEGIN:VEVENT
DTSTART;TZID=America/Toronto:20241015T140000
DTEND;TZID=America/Toronto:20241015T153000
DTSTAMP:20260420T045419
CREATED:20240826T141423Z
LAST-MODIFIED:20240826T141423Z
UID:7909-1729000800-1729006200@aqdrlaval.org
SUMMARY:MANDAT DE PROTECTION ET DIRECTIVES MÉDICALES ANTICIPÉES
DESCRIPTION:N’importe qui peut devenir inapte\, n’importe quand\, d’où l’importance d’être informé sur les options possibles afin de prévoir l’administration de ses biens et\, surtout\, de sa personne\, suite à l’inaptitude.\nConférencière : Me Lucie Boyd \n  \n  \n  \nRéservation : biblio.vsj.ca\nInformation : 579-368-1093 ou info@trara.org \n 
URL:https://aqdrlaval.org/calendrier/mandat-de-protection-et-directives-medicales-anticipees/
LOCATION:Maison de la culture Claude-Henri-Grignon\, 101\, place Curé-Labelle\, Saint-Jérôme\, Québec\, Canada
CATEGORIES:Conférences
END:VEVENT
BEGIN:VEVENT
DTSTART;TZID=America/Toronto:20241003T133000
DTEND;TZID=America/Toronto:20241003T150000
DTSTAMP:20260420T045419
CREATED:20240821T132613Z
LAST-MODIFIED:20240821T132613Z
UID:7717-1727962200-1727967600@aqdrlaval.org
SUMMARY:C’EST PAS PARCE QU’ON EST VIEUX QU’ON NE PEUT PAS RIRE !
DESCRIPTION:Soulignons la Semaine lavalloise des ainés avec les étudiants de l’École nationale de l’humour! \n*En partenariat avec le Comité des usagers du CISSS de Laval \n  \nRéservation : 450 978-0807 ou aqdrlaval@aqdr.org
URL:https://aqdrlaval.org/calendrier/cest-pas-parce-quon-est-vieux-quon-ne-peut-pas-rire/
LOCATION:Carrefour Axion 50+ Salle 221\, 435\, boulevard Curé-Labelle\, Laval - Chomedey\, Québec\, H7V 2S8\, Canada
CATEGORIES:Conférences,Semaine lavalloise des aînés
ORGANIZER;CN="AQDR Laval-Laurentides":MAILTO:aqdrlaval@aqdr.org
END:VEVENT
BEGIN:VEVENT
DTSTART;TZID=America/Toronto:20240924T133000
DTEND;TZID=America/Toronto:20240924T153000
DTSTAMP:20260420T045419
CREATED:20240821T132225Z
LAST-MODIFIED:20240826T141232Z
UID:7714-1727184600-1727191800@aqdrlaval.org
SUMMARY:AMÉLIORER LA SANTÉ DE SON CERVEAU AVEC L’APPLICATION LUCI
DESCRIPTION:Les saines habitudes de vie au service du cerveau. La conférence aborde trois facteurs de protection du cerveau : la saine alimentation\, l’activité physique et la stimulation intellectuelle. \nConférencier : Lucilab \n*Apportez votre ordinateur\, tablette ou téléphone intelligent \nRéservation : biblio.vsj.ca\nInformation : 579-368-1093 ou info@trara.org \n 
URL:https://aqdrlaval.org/calendrier/ameliorer-la-sante-de-son-cerveau-avec-lapplication-luci/
LOCATION:Carrefour Axion 50+ Salle 221\, 435\, boulevard Curé-Labelle\, Laval - Chomedey\, Québec\, H7V 2S8\, Canada
CATEGORIES:Conférences
ORGANIZER;CN="AQDR Laval-Laurentides":MAILTO:aqdrlaval@aqdr.org
END:VEVENT
BEGIN:VEVENT
DTSTART;TZID=America/Toronto:20240919T140000
DTEND;TZID=America/Toronto:20240919T160000
DTSTAMP:20260420T045419
CREATED:20240821T152013Z
LAST-MODIFIED:20240903T195147Z
UID:7736-1726754400-1726761600@aqdrlaval.org
SUMMARY:AMÉLIORER LA SANTÉ DE SON CERVEAU AVEC L’APPLICATION LUCI*
DESCRIPTION:Les saines habitudes de vie au service du cerveau. La conférence aborde trois facteurs de protection du cerveau : la saine alimentation\, l’activité physique et la stimulation intellectuelle.\nConférencier : Lucilab \n*Apportez votre ordinateur portable\, tablette ou téléphone intelligent ! \n  \ninscription en cliquant ICI \n 
URL:https://aqdrlaval.org/calendrier/ameliorer-la-sante-de-son-cerveau-avec-lapplication-luci-2/
LOCATION:Maison de la culture Claude-Henri-Grignon\, 101\, place Curé-Labelle\, Saint-Jérôme\, Québec\, Canada
CATEGORIES:Conférences
END:VEVENT
BEGIN:VEVENT
DTSTART;TZID=America/Toronto:20240430T133000
DTEND;TZID=America/Toronto:20240430T153000
DTSTAMP:20260420T045419
CREATED:20230606T174254Z
LAST-MODIFIED:20230928T183243Z
UID:7048-1714483800-1714491000@aqdrlaval.org
SUMMARY:Équilibre et prévention des chutes
DESCRIPTION:Dans cette conférence\, nous commencerons par une discussion approfondie sur les causes des chutes\, en mettant l’accent sur l’importance de l’équilibre et de la proprioception. Vous découvrirez comment votre corps maintient son équilibre. \nNous parcourrons également différentes pièces de votre maison et partagerons des conseils pratiques pour les rendre plus sûres. La conférence soulignera également les bienfaits de l’activité physique régulière dans la réduction du risque de chutes. Nous discuterons de l’importance de maintenir une bonne condition physique pour renforcer les muscles\, améliorer la coordination et favoriser une meilleure stabilité. \nVous découvrirez des exemples d’exercices simples et adaptés pour renforcer votre équilibre. \nConférencier : Groupe Promo santé Laval
URL:https://aqdrlaval.org/calendrier/equilibre-et-prevention-des-chutes-2/
LOCATION:Carrefour Axion 50+ Salle 221\, 435\, boulevard Curé-Labelle\, Laval - Chomedey\, Québec\, H7V 2S8\, Canada
CATEGORIES:Conférences
ORGANIZER;CN="AQDR Laval-Laurentides":MAILTO:aqdrlaval@aqdr.org
END:VEVENT
BEGIN:VEVENT
DTSTART;TZID=America/Toronto:20240425T133000
DTEND;TZID=America/Toronto:20240425T153000
DTSTAMP:20260420T045419
CREATED:20230606T174131Z
LAST-MODIFIED:20230928T183320Z
UID:7046-1714051800-1714059000@aqdrlaval.org
SUMMARY:Équilibre et prévention des chutes
DESCRIPTION:Dans cette conférence\, nous commencerons par une discussion approfondie sur les causes des chutes\, en mettant l’accent sur l’importance de l’équilibre et de la proprioception. Vous découvrirez comment votre corps maintient son équilibre. \nNous parcourrons également différentes pièces de votre maison et partagerons des conseils pratiques pour les rendre plus sûres. La conférence soulignera également les bienfaits de l’activité physique régulière dans la réduction du risque de chutes. Nous discuterons de l’importance de maintenir une bonne condition physique pour renforcer les muscles\, améliorer la coordination et favoriser une meilleure stabilité. \nVous découvrirez des exemples d’exercices simples et adaptés pour renforcer votre équilibre. \nConférencier: Groupe Promo Santé Laval
URL:https://aqdrlaval.org/calendrier/equilibre-et-prevention-des-chutes/
LOCATION:Centre d’action bénévole de Saint-Jérôme\, 225 Rue Georges-Thurston\, Saint-Jérôme\, Québec\, J7Z 4Y4
CATEGORIES:Conférences
ORGANIZER;CN="AQDR Laval-Laurentides":MAILTO:aqdrlaval@aqdr.org
END:VEVENT
END:VCALENDAR